BEGIN:VCALENDAR
VERSION:2.0
PRODID:-//Boone County - ECPv6.15.20//NONSGML v1.0//EN
CALSCALE:GREGORIAN
METHOD:PUBLISH
X-ORIGINAL-URL:https://boonecountyne.gov
X-WR-CALDESC:Events for Boone County
REFRESH-INTERVAL;VALUE=DURATION:PT1H
X-Robots-Tag:noindex
X-PUBLISHED-TTL:PT1H
BEGIN:VTIMEZONE
TZID:America/Chicago
BEGIN:DAYLIGHT
TZOFFSETFROM:-0600
TZOFFSETTO:-0500
TZNAME:CDT
DTSTART:20250309T080000
END:DAYLIGHT
BEGIN:STANDARD
TZOFFSETFROM:-0500
TZOFFSETTO:-0600
TZNAME:CST
DTSTART:20251102T070000
END:STANDARD
BEGIN:DAYLIGHT
TZOFFSETFROM:-0600
TZOFFSETTO:-0500
TZNAME:CDT
DTSTART:20260308T080000
END:DAYLIGHT
BEGIN:STANDARD
TZOFFSETFROM:-0500
TZOFFSETTO:-0600
TZNAME:CST
DTSTART:20261101T070000
END:STANDARD
BEGIN:DAYLIGHT
TZOFFSETFROM:-0600
TZOFFSETTO:-0500
TZNAME:CDT
DTSTART:20270314T080000
END:DAYLIGHT
BEGIN:STANDARD
TZOFFSETFROM:-0500
TZOFFSETTO:-0600
TZNAME:CST
DTSTART:20271107T070000
END:STANDARD
END:VTIMEZONE
BEGIN:VEVENT
DTSTART;TZID=America/Chicago:20261109T090000
DTEND;TZID=America/Chicago:20261109T123000
DTSTAMP:20260421T213013
CREATED:20250609T190002Z
LAST-MODIFIED:20251212T205035Z
UID:10000712-1794214800-1794227400@boonecountyne.gov
SUMMARY:Boone County Board Meeting
DESCRIPTION:Scheduled Board of Commissioner meeting.
URL:https://boonecountyne.gov/event/9477/2026-11-09/
LOCATION:Boone County Courthouse\, 222 S 4th Street\, Albion\, NE\, 68620\, United States
CATEGORIES:County Board Meeting
END:VEVENT
BEGIN:VEVENT
DTSTART;TZID=America/Chicago:20261111T000000
DTEND;TZID=America/Chicago:20261111T235959
DTSTAMP:20260421T213013
CREATED:20240429T211701Z
LAST-MODIFIED:20241212T170626Z
UID:10000281-1794355200-1794441599@boonecountyne.gov
SUMMARY:Veteran's Day - Closed
DESCRIPTION:All Offices Closed
URL:https://boonecountyne.gov/event/veterans-day/2026-11-11/
LOCATION:NE
CATEGORIES:Holiday
END:VEVENT
BEGIN:VEVENT
DTSTART;TZID=America/Chicago:20261111T090000
DTEND;TZID=America/Chicago:20261111T153000
DTSTAMP:20260421T213013
CREATED:20260210T222429Z
LAST-MODIFIED:20260210T222430Z
UID:10000602-1794387600-1794411000@boonecountyne.gov
SUMMARY:Drivers Examiner
DESCRIPTION:
URL:https://boonecountyne.gov/event/drivers-examiner-2/2026-11-11/
LOCATION:DMV Room\, 222 S 4th Street\, Albion\, NE\, 68620\, United States
CATEGORIES:Driver Examiner
END:VEVENT
BEGIN:VEVENT
DTSTART;TZID=America/Chicago:20261116T090000
DTEND;TZID=America/Chicago:20261116T123000
DTSTAMP:20260421T213013
CREATED:20251212T201530Z
LAST-MODIFIED:20251212T205321Z
UID:10000851-1794819600-1794832200@boonecountyne.gov
SUMMARY:Boone County Board Meeting
DESCRIPTION:Scheduled Board of Commissioner meeting.
URL:https://boonecountyne.gov/event/boone-county-board-meeting-20/2026-11-16/
LOCATION:Boone County Courthouse\, 222 S 4th Street\, Albion\, NE\, 68620\, United States
CATEGORIES:County Board Meeting
END:VEVENT
BEGIN:VEVENT
DTSTART;TZID=America/Chicago:20261125T090000
DTEND;TZID=America/Chicago:20261125T153000
DTSTAMP:20260421T213013
CREATED:20260210T222429Z
LAST-MODIFIED:20260210T222430Z
UID:10000603-1795597200-1795620600@boonecountyne.gov
SUMMARY:Drivers Examiner
DESCRIPTION:
URL:https://boonecountyne.gov/event/drivers-examiner-2/2026-11-25/
LOCATION:DMV Room\, 222 S 4th Street\, Albion\, NE\, 68620\, United States
CATEGORIES:Driver Examiner
END:VEVENT
BEGIN:VEVENT
DTSTART;TZID=America/Chicago:20261126T000000
DTEND;TZID=America/Chicago:20261127T235959
DTSTAMP:20260421T213013
CREATED:20240429T211743Z
LAST-MODIFIED:20241212T170623Z
UID:10000277-1795651200-1795823999@boonecountyne.gov
SUMMARY:Thanksgiving - Closed
DESCRIPTION:All Offices Closed
URL:https://boonecountyne.gov/event/thanksgiving/2026-11-26/
LOCATION:NE
CATEGORIES:Holiday
END:VEVENT
END:VCALENDAR