BEGIN:VCALENDAR
VERSION:2.0
PRODID:-//Boone County - ECPv6.15.20//NONSGML v1.0//EN
CALSCALE:GREGORIAN
METHOD:PUBLISH
X-ORIGINAL-URL:https://boonecountyne.gov
X-WR-CALDESC:Events for Boone County
REFRESH-INTERVAL;VALUE=DURATION:PT1H
X-Robots-Tag:noindex
X-PUBLISHED-TTL:PT1H
BEGIN:VTIMEZONE
TZID:America/Chicago
BEGIN:DAYLIGHT
TZOFFSETFROM:-0600
TZOFFSETTO:-0500
TZNAME:CDT
DTSTART:20260308T080000
END:DAYLIGHT
BEGIN:STANDARD
TZOFFSETFROM:-0500
TZOFFSETTO:-0600
TZNAME:CST
DTSTART:20261101T070000
END:STANDARD
BEGIN:DAYLIGHT
TZOFFSETFROM:-0600
TZOFFSETTO:-0500
TZNAME:CDT
DTSTART:20270314T080000
END:DAYLIGHT
BEGIN:STANDARD
TZOFFSETFROM:-0500
TZOFFSETTO:-0600
TZNAME:CST
DTSTART:20271107T070000
END:STANDARD
BEGIN:DAYLIGHT
TZOFFSETFROM:-0600
TZOFFSETTO:-0500
TZNAME:CDT
DTSTART:20280312T080000
END:DAYLIGHT
BEGIN:STANDARD
TZOFFSETFROM:-0500
TZOFFSETTO:-0600
TZNAME:CST
DTSTART:20281105T070000
END:STANDARD
END:VTIMEZONE
BEGIN:VEVENT
DTSTART;TZID=America/Chicago:20270101T000000
DTEND;TZID=America/Chicago:20270101T235959
DTSTAMP:20260422T005432
CREATED:20240730T161545Z
LAST-MODIFIED:20241212T170650Z
UID:10000308-1798761600-1798847999@boonecountyne.gov
SUMMARY:New Year's Day - Closed
DESCRIPTION:All Offices Closed
URL:https://boonecountyne.gov/event/new-years-day/2027-01-01/
LOCATION:NE
CATEGORIES:Holiday
END:VEVENT
BEGIN:VEVENT
DTSTART;TZID=America/Chicago:20270106T090000
DTEND;TZID=America/Chicago:20270106T153000
DTSTAMP:20260422T005432
CREATED:20260210T222429Z
LAST-MODIFIED:20260210T222430Z
UID:10000606-1799226000-1799249400@boonecountyne.gov
SUMMARY:Drivers Examiner
DESCRIPTION:
URL:https://boonecountyne.gov/event/drivers-examiner-2/2027-01-06/
LOCATION:DMV Room\, 222 S 4th Street\, Albion\, NE\, 68620\, United States
CATEGORIES:Driver Examiner
END:VEVENT
BEGIN:VEVENT
DTSTART;TZID=America/Chicago:20270111T090000
DTEND;TZID=America/Chicago:20270111T123000
DTSTAMP:20260422T005432
CREATED:20250609T190002Z
LAST-MODIFIED:20251212T205035Z
UID:10000714-1799658000-1799670600@boonecountyne.gov
SUMMARY:Boone County Board Meeting
DESCRIPTION:Scheduled Board of Commissioner meeting.
URL:https://boonecountyne.gov/event/9477/2027-01-11/
LOCATION:Boone County Courthouse\, 222 S 4th Street\, Albion\, NE\, 68620\, United States
CATEGORIES:County Board Meeting
END:VEVENT
BEGIN:VEVENT
DTSTART;TZID=America/Chicago:20270118T080000
DTEND;TZID=America/Chicago:20270118T170000
DTSTAMP:20260422T005432
CREATED:20240730T161350Z
LAST-MODIFIED:20241212T170647Z
UID:10000302-1800259200-1800291600@boonecountyne.gov
SUMMARY:Martin Luther King Jr. Day - Closed
DESCRIPTION:All Offices Closed.
URL:https://boonecountyne.gov/event/martin-luther-king-jr-day/2027-01-18/
LOCATION:NE
CATEGORIES:Holiday
END:VEVENT
BEGIN:VEVENT
DTSTART;TZID=America/Chicago:20270120T090000
DTEND;TZID=America/Chicago:20270120T153000
DTSTAMP:20260422T005432
CREATED:20260210T222429Z
LAST-MODIFIED:20260210T222430Z
UID:10000607-1800435600-1800459000@boonecountyne.gov
SUMMARY:Drivers Examiner
DESCRIPTION:
URL:https://boonecountyne.gov/event/drivers-examiner-2/2027-01-20/
LOCATION:DMV Room\, 222 S 4th Street\, Albion\, NE\, 68620\, United States
CATEGORIES:Driver Examiner
END:VEVENT
END:VCALENDAR