BEGIN:VCALENDAR
VERSION:2.0
PRODID:-//Boone County - ECPv6.15.20//NONSGML v1.0//EN
CALSCALE:GREGORIAN
METHOD:PUBLISH
X-ORIGINAL-URL:https://boonecountyne.gov
X-WR-CALDESC:Events for Boone County
REFRESH-INTERVAL;VALUE=DURATION:PT1H
X-Robots-Tag:noindex
X-PUBLISHED-TTL:PT1H
BEGIN:VTIMEZONE
TZID:America/Chicago
BEGIN:DAYLIGHT
TZOFFSETFROM:-0600
TZOFFSETTO:-0500
TZNAME:CDT
DTSTART:20260308T080000
END:DAYLIGHT
BEGIN:STANDARD
TZOFFSETFROM:-0500
TZOFFSETTO:-0600
TZNAME:CST
DTSTART:20261101T070000
END:STANDARD
BEGIN:DAYLIGHT
TZOFFSETFROM:-0600
TZOFFSETTO:-0500
TZNAME:CDT
DTSTART:20270314T080000
END:DAYLIGHT
BEGIN:STANDARD
TZOFFSETFROM:-0500
TZOFFSETTO:-0600
TZNAME:CST
DTSTART:20271107T070000
END:STANDARD
BEGIN:DAYLIGHT
TZOFFSETFROM:-0600
TZOFFSETTO:-0500
TZNAME:CDT
DTSTART:20280312T080000
END:DAYLIGHT
BEGIN:STANDARD
TZOFFSETFROM:-0500
TZOFFSETTO:-0600
TZNAME:CST
DTSTART:20281105T070000
END:STANDARD
END:VTIMEZONE
BEGIN:VEVENT
DTSTART;TZID=America/Chicago:20270203T090000
DTEND;TZID=America/Chicago:20270203T153000
DTSTAMP:20260422T023243
CREATED:20260210T222429Z
LAST-MODIFIED:20260210T222430Z
UID:10000608-1801645200-1801668600@boonecountyne.gov
SUMMARY:Drivers Examiner
DESCRIPTION:
URL:https://boonecountyne.gov/event/drivers-examiner-2/2027-02-03/
LOCATION:DMV Room\, 222 S 4th Street\, Albion\, NE\, 68620\, United States
CATEGORIES:Driver Examiner
END:VEVENT
BEGIN:VEVENT
DTSTART;TZID=America/Chicago:20270208T090000
DTEND;TZID=America/Chicago:20270208T123000
DTSTAMP:20260422T023243
CREATED:20250609T190002Z
LAST-MODIFIED:20251212T205035Z
UID:10000715-1802077200-1802089800@boonecountyne.gov
SUMMARY:Boone County Board Meeting
DESCRIPTION:Scheduled Board of Commissioner meeting.
URL:https://boonecountyne.gov/event/9477/2027-02-08/
LOCATION:Boone County Courthouse\, 222 S 4th Street\, Albion\, NE\, 68620\, United States
CATEGORIES:County Board Meeting
END:VEVENT
BEGIN:VEVENT
DTSTART;VALUE=DATE:20270215
DTEND;VALUE=DATE:20270216
DTSTAMP:20260422T023243
CREATED:20240821T153425Z
LAST-MODIFIED:20241212T170616Z
UID:10000313-1802649600-1802735999@boonecountyne.gov
SUMMARY:President's Day - Closed
DESCRIPTION:All Offices Closed
URL:https://boonecountyne.gov/event/presidents-day/2027-02-15/
LOCATION:NE
CATEGORIES:Holiday
END:VEVENT
BEGIN:VEVENT
DTSTART;TZID=America/Chicago:20270217T090000
DTEND;TZID=America/Chicago:20270217T153000
DTSTAMP:20260422T023243
CREATED:20260210T222429Z
LAST-MODIFIED:20260210T222430Z
UID:10000609-1802854800-1802878200@boonecountyne.gov
SUMMARY:Drivers Examiner
DESCRIPTION:
URL:https://boonecountyne.gov/event/drivers-examiner-2/2027-02-17/
LOCATION:DMV Room\, 222 S 4th Street\, Albion\, NE\, 68620\, United States
CATEGORIES:Driver Examiner
END:VEVENT
END:VCALENDAR