BEGIN:VCALENDAR
VERSION:2.0
PRODID:-//Boone County - ECPv6.15.20//NONSGML v1.0//EN
CALSCALE:GREGORIAN
METHOD:PUBLISH
X-WR-CALNAME:Boone County
X-ORIGINAL-URL:https://boonecountyne.gov
X-WR-CALDESC:Events for Boone County
REFRESH-INTERVAL;VALUE=DURATION:PT1H
X-Robots-Tag:noindex
X-PUBLISHED-TTL:PT1H
BEGIN:VTIMEZONE
TZID:America/Chicago
BEGIN:DAYLIGHT
TZOFFSETFROM:-0600
TZOFFSETTO:-0500
TZNAME:CDT
DTSTART:20260308T080000
END:DAYLIGHT
BEGIN:STANDARD
TZOFFSETFROM:-0500
TZOFFSETTO:-0600
TZNAME:CST
DTSTART:20261101T070000
END:STANDARD
BEGIN:DAYLIGHT
TZOFFSETFROM:-0600
TZOFFSETTO:-0500
TZNAME:CDT
DTSTART:20270314T080000
END:DAYLIGHT
BEGIN:STANDARD
TZOFFSETFROM:-0500
TZOFFSETTO:-0600
TZNAME:CST
DTSTART:20271107T070000
END:STANDARD
BEGIN:DAYLIGHT
TZOFFSETFROM:-0600
TZOFFSETTO:-0500
TZNAME:CDT
DTSTART:20280312T080000
END:DAYLIGHT
BEGIN:STANDARD
TZOFFSETFROM:-0500
TZOFFSETTO:-0600
TZNAME:CST
DTSTART:20281105T070000
END:STANDARD
END:VTIMEZONE
BEGIN:VEVENT
DTSTART;TZID=America/Chicago:20270303T090000
DTEND;TZID=America/Chicago:20270303T153000
DTSTAMP:20260422T043219
CREATED:20260210T222429Z
LAST-MODIFIED:20260210T222430Z
UID:10000610-1804064400-1804087800@boonecountyne.gov
SUMMARY:Drivers Examiner
DESCRIPTION:
URL:https://boonecountyne.gov/event/drivers-examiner-2/2027-03-03/
LOCATION:DMV Room\, 222 S 4th Street\, Albion\, NE\, 68620\, United States
CATEGORIES:Driver Examiner
END:VEVENT
BEGIN:VEVENT
DTSTART;TZID=America/Chicago:20270308T090000
DTEND;TZID=America/Chicago:20270308T123000
DTSTAMP:20260422T043219
CREATED:20250609T190002Z
LAST-MODIFIED:20251212T205035Z
UID:10000716-1804496400-1804509000@boonecountyne.gov
SUMMARY:Boone County Board Meeting
DESCRIPTION:Scheduled Board of Commissioner meeting.
URL:https://boonecountyne.gov/event/9477/2027-03-08/
LOCATION:Boone County Courthouse\, 222 S 4th Street\, Albion\, NE\, 68620\, United States
CATEGORIES:County Board Meeting
END:VEVENT
BEGIN:VEVENT
DTSTART;TZID=America/Chicago:20270317T090000
DTEND;TZID=America/Chicago:20270317T153000
DTSTAMP:20260422T043219
CREATED:20260210T222429Z
LAST-MODIFIED:20260210T222430Z
UID:10000611-1805274000-1805297400@boonecountyne.gov
SUMMARY:Drivers Examiner
DESCRIPTION:
URL:https://boonecountyne.gov/event/drivers-examiner-2/2027-03-17/
LOCATION:DMV Room\, 222 S 4th Street\, Albion\, NE\, 68620\, United States
CATEGORIES:Driver Examiner
END:VEVENT
BEGIN:VEVENT
DTSTART;TZID=America/Chicago:20270331T090000
DTEND;TZID=America/Chicago:20270331T153000
DTSTAMP:20260422T043219
CREATED:20260210T222429Z
LAST-MODIFIED:20260210T222430Z
UID:10000612-1806483600-1806507000@boonecountyne.gov
SUMMARY:Drivers Examiner
DESCRIPTION:
URL:https://boonecountyne.gov/event/drivers-examiner-2/2027-03-31/
LOCATION:DMV Room\, 222 S 4th Street\, Albion\, NE\, 68620\, United States
CATEGORIES:Driver Examiner
END:VEVENT
END:VCALENDAR