BEGIN:VCALENDAR
VERSION:2.0
PRODID:-//Boone County - ECPv6.15.20//NONSGML v1.0//EN
CALSCALE:GREGORIAN
METHOD:PUBLISH
X-ORIGINAL-URL:https://boonecountyne.gov
X-WR-CALDESC:Events for Boone County
REFRESH-INTERVAL;VALUE=DURATION:PT1H
X-Robots-Tag:noindex
X-PUBLISHED-TTL:PT1H
BEGIN:VTIMEZONE
TZID:America/Chicago
BEGIN:DAYLIGHT
TZOFFSETFROM:-0600
TZOFFSETTO:-0500
TZNAME:CDT
DTSTART:20270314T080000
END:DAYLIGHT
BEGIN:STANDARD
TZOFFSETFROM:-0500
TZOFFSETTO:-0600
TZNAME:CST
DTSTART:20271107T070000
END:STANDARD
BEGIN:DAYLIGHT
TZOFFSETFROM:-0600
TZOFFSETTO:-0500
TZNAME:CDT
DTSTART:20280312T080000
END:DAYLIGHT
BEGIN:STANDARD
TZOFFSETFROM:-0500
TZOFFSETTO:-0600
TZNAME:CST
DTSTART:20281105T070000
END:STANDARD
BEGIN:DAYLIGHT
TZOFFSETFROM:-0600
TZOFFSETTO:-0500
TZNAME:CDT
DTSTART:20290311T080000
END:DAYLIGHT
BEGIN:STANDARD
TZOFFSETFROM:-0500
TZOFFSETTO:-0600
TZNAME:CST
DTSTART:20291104T070000
END:STANDARD
END:VTIMEZONE
BEGIN:VEVENT
DTSTART;TZID=America/Chicago:20280508T090000
DTEND;TZID=America/Chicago:20280508T123000
DTSTAMP:20260423T074213
CREATED:20250609T190002Z
LAST-MODIFIED:20251212T205035Z
UID:10000730-1841389200-1841401800@boonecountyne.gov
SUMMARY:Boone County Board Meeting
DESCRIPTION:Scheduled Board of Commissioner meeting.
URL:https://boonecountyne.gov/event/9477/2028-05-08/
LOCATION:Boone County Courthouse\, 222 S 4th Street\, Albion\, NE\, 68620\, United States
CATEGORIES:County Board Meeting
END:VEVENT
BEGIN:VEVENT
DTSTART;TZID=America/Chicago:20280510T090000
DTEND;TZID=America/Chicago:20280510T153000
DTSTAMP:20260423T074213
CREATED:20260210T222429Z
LAST-MODIFIED:20260210T222430Z
UID:10000641-1841562000-1841585400@boonecountyne.gov
SUMMARY:Drivers Examiner
DESCRIPTION:
URL:https://boonecountyne.gov/event/drivers-examiner-2/2028-05-10/
LOCATION:DMV Room\, 222 S 4th Street\, Albion\, NE\, 68620\, United States
CATEGORIES:Driver Examiner
END:VEVENT
BEGIN:VEVENT
DTSTART;TZID=America/Chicago:20280522T000000
DTEND;TZID=America/Chicago:20280522T235959
DTSTAMP:20260423T074213
CREATED:20240429T202532Z
LAST-MODIFIED:20241212T170643Z
UID:10000021-1842566400-1842652799@boonecountyne.gov
SUMMARY:Memorial Day - Closed
DESCRIPTION:All Offices Closed
URL:https://boonecountyne.gov/event/memorial-day/2028-05-22/
LOCATION:NE
CATEGORIES:Holiday
END:VEVENT
BEGIN:VEVENT
DTSTART;TZID=America/Chicago:20280524T090000
DTEND;TZID=America/Chicago:20280524T153000
DTSTAMP:20260423T074213
CREATED:20260210T222429Z
LAST-MODIFIED:20260210T222430Z
UID:10000642-1842771600-1842795000@boonecountyne.gov
SUMMARY:Drivers Examiner
DESCRIPTION:
URL:https://boonecountyne.gov/event/drivers-examiner-2/2028-05-24/
LOCATION:DMV Room\, 222 S 4th Street\, Albion\, NE\, 68620\, United States
CATEGORIES:Driver Examiner
END:VEVENT
END:VCALENDAR